BEGIN:VCALENDAR
VERSION:2.0
PRODID:-//Funny Blech - ECPv6.15.18//NONSGML v1.0//EN
CALSCALE:GREGORIAN
METHOD:PUBLISH
X-WR-CALNAME:Funny Blech
X-ORIGINAL-URL:https://funnyblech.de
X-WR-CALDESC:Veranstaltungen für Funny Blech
REFRESH-INTERVAL;VALUE=DURATION:PT1H
X-Robots-Tag:noindex
X-PUBLISHED-TTL:PT1H
BEGIN:VTIMEZONE
TZID:UTC
BEGIN:STANDARD
TZOFFSETFROM:+0000
TZOFFSETTO:+0000
TZNAME:UTC
DTSTART:20250101T000000
END:STANDARD
END:VTIMEZONE
BEGIN:VEVENT
DTSTART;TZID=UTC:20260506T193000
DTEND;TZID=UTC:20260506T213000
DTSTAMP:20260421T150018
CREATED:20260313T154353Z
LAST-MODIFIED:20260313T154353Z
UID:548-1778095800-1778103000@funnyblech.de
SUMMARY:Probe
DESCRIPTION:
URL:https://funnyblech.de/termin/probe-5/
LOCATION:Proberaum\, Am Sportplatz\, Brockel\, 27386\, Germany
END:VEVENT
BEGIN:VEVENT
DTSTART;TZID=UTC:20260509T160000
DTEND;TZID=UTC:20260509T183000
DTSTAMP:20260421T150018
CREATED:20260307T163334Z
LAST-MODIFIED:20260307T163729Z
UID:511-1778342400-1778351400@funnyblech.de
SUMMARY:Schützenfest
DESCRIPTION:Unterhaltungsmusik am Nachmittag &#8211; kommt vorbei!
URL:https://funnyblech.de/termin/schuetzenfest/
LOCATION:27383 Bartelsdorf\, Vor der Brake\, Vor der Brake\, Barteldorf\, 27383\, Germany
END:VEVENT
BEGIN:VEVENT
DTSTART;TZID=UTC:20260602T193000
DTEND;TZID=UTC:20260602T213000
DTSTAMP:20260421T150018
CREATED:20260307T163344Z
LAST-MODIFIED:20260309T074302Z
UID:514-1780428600-1780435800@funnyblech.de
SUMMARY:Probe
DESCRIPTION:Da die Urlaubszeit beginnt machen wir heute ausnahmsweise eine Probenverschiebung auf den Dienstag.
URL:https://funnyblech.de/termin/probe-3/
LOCATION:Proberaum\, Am Sportplatz\, Brockel\, 27386\, Germany
END:VEVENT
BEGIN:VEVENT
DTSTART;TZID=UTC:20260628T110000
DTEND;TZID=UTC:20260628T133000
DTSTAMP:20260421T150018
CREATED:20260313T155135Z
LAST-MODIFIED:20260315T104448Z
UID:550-1782644400-1782653400@funnyblech.de
SUMMARY:Schützenfest Katerfrühstück Frühschoppen
DESCRIPTION:
URL:https://funnyblech.de/termin/schuetztenfest-katerfruehstueck-fruehschoppen/
LOCATION:Schützenverein Reeßum\, Schützenverein\, Reeßum\, 27367\, Germany
END:VEVENT
BEGIN:VEVENT
DTSTART;TZID=UTC:20260630T193000
DTEND;TZID=UTC:20260630T213000
DTSTAMP:20260421T150018
CREATED:20260307T163405Z
LAST-MODIFIED:20260307T163405Z
UID:516-1782847800-1782855000@funnyblech.de
SUMMARY:Probe
DESCRIPTION:&#8230;und auch hier kommt eine Probenverschiebung auf Dienstag in Folge der Urlaubszeit
URL:https://funnyblech.de/termin/probe-4/
LOCATION:Proberaum\, Am Sportplatz\, Brockel\, 27386\, Germany
END:VEVENT
BEGIN:VEVENT
DTSTART;TZID=UTC:20260725T150000
DTEND;TZID=UTC:20260725T173000
DTSTAMP:20260421T150018
CREATED:20260313T161324Z
LAST-MODIFIED:20260313T161643Z
UID:556-1784991600-1785000600@funnyblech.de
SUMMARY:Dorffest Otterstedt
DESCRIPTION:Unterhaltungsmusik zu Kaffee & Kuchen
URL:https://funnyblech.de/termin/dorffest/
LOCATION:28870 Otterstedt\, Loger Str. 1
END:VEVENT
BEGIN:VEVENT
DTSTART;TZID=UTC:20260725T190000
DTEND;TZID=UTC:20260725T233000
DTSTAMP:20260421T150018
CREATED:20260313T162611Z
LAST-MODIFIED:20260313T163953Z
UID:563-1785006000-1785022200@funnyblech.de
SUMMARY:Scheeßeler Bierfest im Trachtensommer
DESCRIPTION:Veranstalter: Original Scheeßeler Trachtengruppe &#8211; An diesem Abend wird gemütlich zusammen gesessen; der Sommer und die gute Laune gefeiert.
URL:https://funnyblech.de/termin/scheesseler-bierfest-im-trachtensommer/
LOCATION:27383 Scheeßel\, Am Meyerhof\, Am Meyerhof\, Scheeßel\, 27383
END:VEVENT
BEGIN:VEVENT
DTSTART;TZID=UTC:20260726T110000
DTEND;TZID=UTC:20260726T170000
DTSTAMP:20260421T150018
CREATED:20260313T163143Z
LAST-MODIFIED:20260313T164116Z
UID:566-1785063600-1785085200@funnyblech.de
SUMMARY:Scheeßeler Trachtensommer 2026
DESCRIPTION:Veranstalter: Original Scheeßeler Trachtenverein\nAb 11.00 Uhr Frühschoppen\nAb 13.00 Uhr Programm\nTrachten verbinden &#8211;  die Original Scheeßeler Trachtengruppe begrüßt Gruppen aus Belgien\, Lettland\, Schottland\, Schweden und Irland.
URL:https://funnyblech.de/termin/scheesseler-trachtensommer-2026/
LOCATION:27383 Scheeßel\, Am Meyerhof\, Am Meyerhof\, Scheeßel\, 27383
END:VEVENT
BEGIN:VEVENT
DTSTART;TZID=UTC:20260729T193000
DTEND;TZID=UTC:20260729T213000
DTSTAMP:20260421T150018
CREATED:20260313T164205Z
LAST-MODIFIED:20260313T164205Z
UID:575-1785353400-1785360600@funnyblech.de
SUMMARY:Probe
DESCRIPTION:
URL:https://funnyblech.de/termin/probe-6/
LOCATION:Proberaum\, Am Sportplatz\, Brockel\, 27386\, Germany
END:VEVENT
BEGIN:VEVENT
DTSTART;TZID=UTC:20260826T193000
DTEND;TZID=UTC:20260826T213000
DTSTAMP:20260421T150018
CREATED:20260313T164718Z
LAST-MODIFIED:20260313T164718Z
UID:580-1787772600-1787779800@funnyblech.de
SUMMARY:Probe
DESCRIPTION:
URL:https://funnyblech.de/termin/probe-7/
LOCATION:Proberaum\, Am Sportplatz\, Brockel\, 27386\, Germany
END:VEVENT
BEGIN:VEVENT
DTSTART;TZID=UTC:20260905T160000
DTEND;TZID=UTC:20260905T183000
DTSTAMP:20260421T150018
CREATED:20260313T165011Z
LAST-MODIFIED:20260313T165100Z
UID:582-1788624000-1788633000@funnyblech.de
SUMMARY:Erntefest in Bartelsdorf
DESCRIPTION:Unterhaltungsmusik zu Kaffee und Kuchen
URL:https://funnyblech.de/termin/schuetzenfest-in-bartelsdorf/
LOCATION:27383 Bartelsdorf\, Vor der Brake\, Vor der Brake\, Barteldorf\, 27383\, Germany
END:VEVENT
BEGIN:VEVENT
DTSTART;TZID=UTC:20260912T150000
DTEND;TZID=UTC:20260912T173000
DTSTAMP:20260421T150018
CREATED:20260313T165310Z
LAST-MODIFIED:20260313T165310Z
UID:586-1789225200-1789234200@funnyblech.de
SUMMARY:650 Jahre Sothel
DESCRIPTION:Unterhaltungsmusik zu Kaffee und Kuchen
URL:https://funnyblech.de/termin/650-jahre-sothel/
LOCATION:27383 Sothel\, Germany
END:VEVENT
BEGIN:VEVENT
DTSTART;TZID=UTC:20260923T193000
DTEND;TZID=UTC:20260923T213000
DTSTAMP:20260421T150018
CREATED:20260313T165653Z
LAST-MODIFIED:20260313T165653Z
UID:589-1790191800-1790199000@funnyblech.de
SUMMARY:Probe
DESCRIPTION:
URL:https://funnyblech.de/termin/probe-8/
LOCATION:Proberaum\, Am Sportplatz\, Brockel\, 27386\, Germany
END:VEVENT
BEGIN:VEVENT
DTSTART;TZID=UTC:20261021T193000
DTEND;TZID=UTC:20261021T213000
DTSTAMP:20260421T150018
CREATED:20260315T103402Z
LAST-MODIFIED:20260315T103402Z
UID:591-1792611000-1792618200@funnyblech.de
SUMMARY:Probe
DESCRIPTION:
URL:https://funnyblech.de/termin/probe-9/
LOCATION:Proberaum\, Am Sportplatz\, Brockel\, 27386\, Germany
END:VEVENT
BEGIN:VEVENT
DTSTART;TZID=UTC:20261118T193000
DTEND;TZID=UTC:20261118T213000
DTSTAMP:20260421T150018
CREATED:20260315T103503Z
LAST-MODIFIED:20260315T103610Z
UID:594-1795030200-1795037400@funnyblech.de
SUMMARY:Probe
DESCRIPTION:
URL:https://funnyblech.de/termin/probe-10/
LOCATION:Proberaum\, Am Sportplatz\, Brockel\, 27386\, Germany
END:VEVENT
BEGIN:VEVENT
DTSTART;TZID=UTC:20261128T113000
DTEND;TZID=UTC:20261128T140000
DTSTAMP:20260421T150018
CREATED:20260315T104350Z
LAST-MODIFIED:20260315T104350Z
UID:598-1795865400-1795874400@funnyblech.de
SUMMARY:Miss Sophie´s 91. Geburtstag
DESCRIPTION:Private Veranstaltung
URL:https://funnyblech.de/termin/miss-sophies-91-geburtstag/
END:VEVENT
BEGIN:VEVENT
DTSTART;TZID=UTC:20261216T193000
DTEND;TZID=UTC:20261216T213000
DTSTAMP:20260421T150018
CREATED:20260315T103833Z
LAST-MODIFIED:20260315T103833Z
UID:596-1797449400-1797456600@funnyblech.de
SUMMARY:Probe
DESCRIPTION:
URL:https://funnyblech.de/termin/probe-11/
LOCATION:Proberaum\, Am Sportplatz\, Brockel\, 27386\, Germany
END:VEVENT
END:VCALENDAR